BEGIN:VCALENDAR
VERSION:2.0
PRODID:-//Doppelpunkt//Events//DE
CALSCALE:GREGORIAN
METHOD:PUBLISH
BEGIN:VEVENT
UID:event-3454@www.doppelpunkt.de
DTSTAMP:20260425T141819
DTSTART:20260124T200000
DTEND:20260124T200000
SUMMARY:"Gitarre statt Knarre": Klinikel (Post Punk)\, My New Zoo (Wave'n'Roll) u. Die Utopisten (Rock)
LOCATION:MUZclub\, Fürther Str. 63\, 90429 Nürnberg
STATUS:CONFIRMED
END:VEVENT
END:VCALENDAR