BEGIN:VCALENDAR
VERSION:2.0
PRODID:-//Doppelpunkt//Events//DE
CALSCALE:GREGORIAN
METHOD:PUBLISH
BEGIN:VEVENT
UID:event-3453@www.doppelpunkt.de
DTSTAMP:20260425T161614
DTSTART:20260123T200000
DTEND:20260123T200000
SUMMARY:"Yo NBG": Voodoofunkers\, Cloud\, Johnny Bonezz\, S&D u. Mod & Beat Joe
LOCATION:MUZclub\, Fürther Str. 63\, 90429 Nürnberg
STATUS:CONFIRMED
END:VEVENT
END:VCALENDAR