BEGIN:VCALENDAR
VERSION:2.0
PRODID:-//Doppelpunkt//Events//DE
CALSCALE:GREGORIAN
METHOD:PUBLISH
BEGIN:VEVENT
UID:event-3452@www.doppelpunkt.de
DTSTAMP:20260425T141452
DTSTART:20260122T193000
DTEND:20260122T193000
SUMMARY:Fit und Brille (NDW/Post-Punk)\, Support: Schorle
LOCATION:MUZclub\, Fürther Str. 63\, 90429 Nürnberg
STATUS:CONFIRMED
END:VEVENT
END:VCALENDAR