BEGIN:VCALENDAR
VERSION:2.0
PRODID:-//Doppelpunkt//Events//DE
CALSCALE:GREGORIAN
METHOD:PUBLISH
BEGIN:VEVENT
UID:event-3451@www.doppelpunkt.de
DTSTAMP:20260425T142336
DTSTART:20260117T203000
DTEND:20260117T203000
SUMMARY:"19 Jahre MUZCLUB - Der Geburtstag": Schrödingers Taube\, Mojo Rojo\, Leocardo DiNaprio\, Forgetti Regretti b2b Frango Assado\, Dog Show
LOCATION:MUZclub\, Fürther Str. 63\, 90429 Nürnberg
STATUS:CONFIRMED
END:VEVENT
END:VCALENDAR