BEGIN:VCALENDAR
VERSION:2.0
PRODID:-//Doppelpunkt//Events//DE
CALSCALE:GREGORIAN
METHOD:PUBLISH
BEGIN:VEVENT
UID:event-3449@www.doppelpunkt.de
DTSTAMP:20260425T141513
DTSTART:20260115T190000
DTEND:20260115T190000
SUMMARY:Vortrag: "Weg der Freundschaft\,  2700km von Eisennach nach Budapest"
LOCATION:DAV Kletter- und Vereinszentrum\, Hartmannstr. 116\, 91056 Erlangen
STATUS:CONFIRMED
END:VEVENT
END:VCALENDAR