BEGIN:VCALENDAR
VERSION:2.0
PRODID:-//Doppelpunkt//Events//DE
CALSCALE:GREGORIAN
METHOD:PUBLISH
BEGIN:VEVENT
UID:event-3448@www.doppelpunkt.de
DTSTAMP:20260425T135306
DTSTART:20260127T190000
DTEND:20260127T190000
SUMMARY:Lesung mit Hannah Candolini u. Matthäus Zaborszyk: "Frieda und Fredy - Eine verbotene Liebe in Fürth"\, aus Texten von Alfred Davidsohn und Frieda Waldmann\, Musikalische Begleitung: Stephanie Wagner (Cello)
LOCATION:Jüdisches Museum\, Königstr. 89\, 90762 Fürth
STATUS:CONFIRMED
END:VEVENT
END:VCALENDAR