BEGIN:VCALENDAR
VERSION:2.0
PRODID:-//Doppelpunkt//Events//DE
CALSCALE:GREGORIAN
METHOD:PUBLISH
BEGIN:VEVENT
UID:event-3447@www.doppelpunkt.de
DTSTAMP:20260425T135317
DTSTART:20260131T193000
DTEND:20260131T193000
SUMMARY:Compagnie Ange Aoussou: "Ici c’est pas la paroisse"\, Tanzperformance
LOCATION:Gemeinschaftshaus Langwasser\, Glogauer Str. 50\, 90473 Nürnberg
STATUS:CONFIRMED
END:VEVENT
END:VCALENDAR