BEGIN:VCALENDAR
VERSION:2.0
PRODID:-//Doppelpunkt//Events//DE
CALSCALE:GREGORIAN
METHOD:PUBLISH
BEGIN:VEVENT
UID:event-3445@www.doppelpunkt.de
DTSTAMP:20260425T141042
DTSTART:20260129T200000
DTEND:20260129T200000
SUMMARY:Trio O'Mario (Jazz/Funk)
LOCATION:Tante Betty JazzBar\, Schweppermannstr. 1\, 90408 Nürnberg
STATUS:CONFIRMED
END:VEVENT
END:VCALENDAR