BEGIN:VCALENDAR
VERSION:2.0
PRODID:-//Doppelpunkt//Events//DE
CALSCALE:GREGORIAN
METHOD:PUBLISH
BEGIN:VEVENT
UID:event-3444@www.doppelpunkt.de
DTSTAMP:20260425T135437
DTSTART:20260128T200000
DTEND:20260128T200000
SUMMARY:Rodríguez & Mabiala (Fusion/Weltmusik)
LOCATION:Tante Betty JazzBar\, Schweppermannstr. 1\, 90408 Nürnberg
STATUS:CONFIRMED
END:VEVENT
END:VCALENDAR