BEGIN:VCALENDAR
VERSION:2.0
PRODID:-//Doppelpunkt//Events//DE
CALSCALE:GREGORIAN
METHOD:PUBLISH
BEGIN:VEVENT
UID:event-3443@www.doppelpunkt.de
DTSTAMP:20260425T141515
DTSTART:20260121T200000
DTEND:20260121T200000
SUMMARY:Soft Entropy (Jazz/Pop/Ambient)
LOCATION:Tante Betty JazzBar\, Schweppermannstr. 1\, 90408 Nürnberg
STATUS:CONFIRMED
END:VEVENT
END:VCALENDAR