BEGIN:VCALENDAR
VERSION:2.0
PRODID:-//Doppelpunkt//Events//DE
CALSCALE:GREGORIAN
METHOD:PUBLISH
BEGIN:VEVENT
UID:event-3442@www.doppelpunkt.de
DTSTAMP:20260425T141727
DTSTART:20260115T200000
DTEND:20260115T200000
SUMMARY:Schmid's Huhn (Jazz)
LOCATION:Tante Betty JazzBar\, Schweppermannstr. 1\, 90408 Nürnberg
STATUS:CONFIRMED
END:VEVENT
END:VCALENDAR