BEGIN:VCALENDAR
VERSION:2.0
PRODID:-//Doppelpunkt//Events//DE
CALSCALE:GREGORIAN
METHOD:PUBLISH
BEGIN:VEVENT
UID:event-3441@www.doppelpunkt.de
DTSTAMP:20260425T135352
DTSTART:20260128T193000
DTEND:20260128T193000
SUMMARY:Lesung und Vortrag von Leonhard F. Seidl: "Ich verwerfe jede Gewalt - Der Fürther Anarchist Fritz Oerter"
LOCATION:Kulturbahnhof Hersbruck e.V.\, Bahngelände 2\, 91217 Hersbruck
STATUS:CONFIRMED
END:VEVENT
END:VCALENDAR