BEGIN:VCALENDAR
VERSION:2.0
PRODID:-//Doppelpunkt//Events//DE
CALSCALE:GREGORIAN
METHOD:PUBLISH
BEGIN:VEVENT
UID:event-3440@www.doppelpunkt.de
DTSTAMP:20260425T140719
DTSTART:20260117T100000
DTEND:20260118T235900
SUMMARY:Hochzeits- u. Eventmesse
LOCATION:Arvena Park Hotel\, Görlitzer Str. 51\, 90473 Nürnberg
STATUS:CONFIRMED
END:VEVENT
END:VCALENDAR