BEGIN:VCALENDAR
VERSION:2.0
PRODID:-//Doppelpunkt//Events//DE
CALSCALE:GREGORIAN
METHOD:PUBLISH
BEGIN:VEVENT
UID:event-3439@www.doppelpunkt.de
DTSTAMP:20260425T142310
DTSTART:20260114T180000
DTEND:20260114T180000
SUMMARY:Autorenlesung mit Sven Weiss: "Der Butterberg"
LOCATION:Snygg Home Café\, Katzwanger Hauptstraße 50\, 90453 Nürnberg
STATUS:CONFIRMED
END:VEVENT
END:VCALENDAR