BEGIN:VCALENDAR
VERSION:2.0
PRODID:-//Doppelpunkt//Events//DE
CALSCALE:GREGORIAN
METHOD:PUBLISH
BEGIN:VEVENT
UID:event-3434@www.doppelpunkt.de
DTSTAMP:20260425T123907
DTSTART:20260205T143000
DTEND:20260205T143000
SUMMARY:"Panoptikum":  Rotondes (LU): "Minuit - Mitternacht"\, illustriertes Konzert\, ab 7 J.
LOCATION:Kulturwerkstatt Auf AEG\, Fürther Straße 244d\, 90429 Nürnberg
STATUS:CONFIRMED
END:VEVENT
END:VCALENDAR