BEGIN:VCALENDAR
VERSION:2.0
PRODID:-//Doppelpunkt//Events//DE
CALSCALE:GREGORIAN
METHOD:PUBLISH
BEGIN:VEVENT
UID:event-3433@www.doppelpunkt.de
DTSTAMP:20260425T122908
DTSTART:20260206T143000
DTEND:20260206T143000
SUMMARY:"Panoptikum":  Ceren Oran & Moving Borders\, München: "Fliegende Wörter"\, zeitgen. Tanz\, ab 6 J.
LOCATION:Schauspielhaus/3. Etage\, Richard-Wagner-Platz 2-10\, 90443 Nürnberg
STATUS:CONFIRMED
END:VEVENT
END:VCALENDAR