BEGIN:VCALENDAR
VERSION:2.0
PRODID:-//Doppelpunkt//Events//DE
CALSCALE:GREGORIAN
METHOD:PUBLISH
BEGIN:VEVENT
UID:event-3430@www.doppelpunkt.de
DTSTAMP:20260421T105539
DTSTART:20260204T190000
DTEND:20260204T190000
SUMMARY:"Panoptikum": Cie. Des Fourmis dans la Laterne: "Nos petits penchants - Unsere kleinen Schwächen"\, Figurentheater ab 7 J.
LOCATION:Theater Salz+Pfeffer\, Frauentorgraben 73\, 90443 Nürnberg
STATUS:CONFIRMED
END:VEVENT
END:VCALENDAR