BEGIN:VCALENDAR
VERSION:2.0
PRODID:-//Doppelpunkt//Events//DE
CALSCALE:GREGORIAN
METHOD:PUBLISH
BEGIN:VEVENT
UID:event-3429@www.doppelpunkt.de
DTSTAMP:20260421T114421
DTSTART:20260207T190000
DTEND:20260207T190000
SUMMARY:"Panoptikum":   Uppercut Dance Theatre (DK): "Benched - Auf die Bänke\, fertig\, los!"\, aktrobat. Tanztheater\, ab 10 J.
LOCATION:Künstlerhaus Festsaal\, Königstr. 93\, 90402 Nürnberg
STATUS:CONFIRMED
END:VEVENT
END:VCALENDAR