BEGIN:VCALENDAR
VERSION:2.0
PRODID:-//Doppelpunkt//Events//DE
CALSCALE:GREGORIAN
METHOD:PUBLISH
BEGIN:VEVENT
UID:event-3428@www.doppelpunkt.de
DTSTAMP:20260425T122932
DTSTART:20260205T190000
DTEND:20260205T190000
SUMMARY:"Panoptikum":  Michael Zandl\, David Eisele\, Kolja Huneck (NL): "Sawdust Symphonie - Symphonie der Sägespäne"\, zeitgen. Zirkusstück\, ab 8 J.
LOCATION:Künstlerhaus Festsaal\, Königstr. 93\, 90402 Nürnberg
STATUS:CONFIRMED
END:VEVENT
END:VCALENDAR