BEGIN:VCALENDAR
VERSION:2.0
PRODID:-//Doppelpunkt//Events//DE
CALSCALE:GREGORIAN
METHOD:PUBLISH
BEGIN:VEVENT
UID:event-3427@www.doppelpunkt.de
DTSTAMP:20260421T105810
DTSTART:20260204T180000
DTEND:20260204T180000
SUMMARY:"Panoptikum": Compagnie Quattrox4: "Gretel"\, akrobatisches Tanztheater\, ab 6 J.
LOCATION:Künstlerhaus Festsaal\, Königstr. 93\, 90402 Nürnberg
STATUS:CONFIRMED
END:VEVENT
END:VCALENDAR