BEGIN:VCALENDAR
VERSION:2.0
PRODID:-//Doppelpunkt//Events//DE
CALSCALE:GREGORIAN
METHOD:PUBLISH
BEGIN:VEVENT
UID:event-3426@www.doppelpunkt.de
DTSTAMP:20260421T105813
DTSTART:20260204T163000
DTEND:20260204T163000
SUMMARY:"Panoptikum": Ungehaltene Reden ungehaltener Kinder\, ab 8 J.\, Eintritt frei\, Anmeldung erf.
LOCATION:Künstlerhaus Festsaal\, Königstr. 93\, 90402 Nürnberg
STATUS:CONFIRMED
END:VEVENT
END:VCALENDAR