BEGIN:VCALENDAR
VERSION:2.0
PRODID:-//Doppelpunkt//Events//DE
CALSCALE:GREGORIAN
METHOD:PUBLISH
BEGIN:VEVENT
UID:event-3423@www.doppelpunkt.de
DTSTAMP:20260425T123001
DTSTART:20260205T190000
DTEND:20260205T190000
SUMMARY:"Panoptikum": Kopergietry (Belgien): "De bleke Baron – Der bleiche Baron"\, ab 8 J.
LOCATION:Theater Pfütze\, Äußerer Laufer Platz 22\, 90403 Nürnberg
STATUS:CONFIRMED
END:VEVENT
END:VCALENDAR