BEGIN:VCALENDAR
VERSION:2.0
PRODID:-//Doppelpunkt//Events//DE
CALSCALE:GREGORIAN
METHOD:PUBLISH
BEGIN:VEVENT
UID:event-3422@www.doppelpunkt.de
DTSTAMP:20260421T105810
DTSTART:20260204T143000
DTEND:20260204T143000
SUMMARY:"Panoptikum":  Claire Parsons Co. u. Dramaten (Schweden): "Little Swan Lake - Der kleine Schwanensee"\, ab 4 J.
LOCATION:Theater Pfütze\, Äußerer Laufer Platz 22\, 90403 Nürnberg
STATUS:CONFIRMED
END:VEVENT
END:VCALENDAR