BEGIN:VCALENDAR
VERSION:2.0
PRODID:-//Doppelpunkt//Events//DE
CALSCALE:GREGORIAN
METHOD:PUBLISH
BEGIN:VEVENT
UID:event-3421@www.doppelpunkt.de
DTSTAMP:20260421T111429
DTSTART:20260207T153000
DTEND:20260207T153000
SUMMARY:"Panoptikum":  Nevski Prospekt (Belgien): "Ginger"\, ab 4 J.
LOCATION:Theater Mummpitz\, Michael-Ende-Str. 17\, 90439 Nürnberg
STATUS:CONFIRMED
END:VEVENT
END:VCALENDAR