BEGIN:VCALENDAR
VERSION:2.0
PRODID:-//Doppelpunkt//Events//DE
CALSCALE:GREGORIAN
METHOD:PUBLISH
BEGIN:VEVENT
UID:event-3419@www.doppelpunkt.de
DTSTAMP:20260425T122932
DTSTART:20260205T163000
DTEND:20260205T163000
SUMMARY:"Panoptikum": Diskussion: "Aktuelle Situation in der Förderlandschaft"
LOCATION:Theater Mummpitz\, Michael-Ende-Str. 17\, 90439 Nürnberg
STATUS:CONFIRMED
END:VEVENT
END:VCALENDAR