BEGIN:VCALENDAR
VERSION:2.0
PRODID:-//Doppelpunkt//Events//DE
CALSCALE:GREGORIAN
METHOD:PUBLISH
BEGIN:VEVENT
UID:event-3418@www.doppelpunkt.de
DTSTAMP:20260425T123926
DTSTART:20260204T143000
DTEND:20260204T143000
SUMMARY:"Panoptikum": Flop (F): "Cheminements -Unterwegs"\, ab 6 J.
LOCATION:Theater Mummpitz\, Michael-Ende-Str. 17\, 90439 Nürnberg
STATUS:CONFIRMED
END:VEVENT
END:VCALENDAR