BEGIN:VCALENDAR
VERSION:2.0
PRODID:-//Doppelpunkt//Events//DE
CALSCALE:GREGORIAN
METHOD:PUBLISH
BEGIN:VEVENT
UID:event-3417@www.doppelpunkt.de
DTSTAMP:20260421T111721
DTSTART:20260203T180000
DTEND:20260203T180000
SUMMARY:"Panoptikum" - Europäisch-bayerisches Kindertheaterfestival: Eröffnung
LOCATION:Theater Mummpitz\, Michael-Ende-Str. 17\, 90439 Nürnberg
STATUS:CONFIRMED
END:VEVENT
END:VCALENDAR