BEGIN:VCALENDAR
VERSION:2.0
PRODID:-//Doppelpunkt//Events//DE
CALSCALE:GREGORIAN
METHOD:PUBLISH
BEGIN:VEVENT
UID:event-3416@www.doppelpunkt.de
DTSTAMP:20260425T135822
DTSTART:20260123T200000
DTEND:20260123T200000
SUMMARY:Smokestack Lightnin' (Rockabilly/Country/Soul)
LOCATION:Jegelscheune\, Forststr. 2\, 90530 Wendelstein
STATUS:CONFIRMED
END:VEVENT
END:VCALENDAR