BEGIN:VCALENDAR
VERSION:2.0
PRODID:-//Doppelpunkt//Events//DE
CALSCALE:GREGORIAN
METHOD:PUBLISH
BEGIN:VEVENT
UID:event-3415@www.doppelpunkt.de
DTSTAMP:20260421T111733
DTSTART:20260212T201100
DTEND:20260212T201100
SUMMARY:"Jambo Jambo Weiberfasching" mit DJ Gerald Kappler
LOCATION:Parks\, Berliner Platz 9\, 90409 Nürnberg
STATUS:CONFIRMED
END:VEVENT
END:VCALENDAR