BEGIN:VCALENDAR
VERSION:2.0
PRODID:-//Doppelpunkt//Events//DE
CALSCALE:GREGORIAN
METHOD:PUBLISH
BEGIN:VEVENT
UID:event-3414@www.doppelpunkt.de
DTSTAMP:20260425T135445
DTSTART:20260120T193000
DTEND:20260120T193000
SUMMARY:Christian Grosselfinger (Cello/Rock/Klassik-Fusion)\, Support: Seconds to Move
LOCATION:Parks\, Berliner Platz 9\, 90409 Nürnberg
STATUS:CONFIRMED
END:VEVENT
END:VCALENDAR