BEGIN:VCALENDAR
VERSION:2.0
PRODID:-//Doppelpunkt//Events//DE
CALSCALE:GREGORIAN
METHOD:PUBLISH
BEGIN:VEVENT
UID:event-3413@www.doppelpunkt.de
DTSTAMP:20260425T135614
DTSTART:20260131T200000
DTEND:20260131T200000
SUMMARY:"Jambo Jambo Ball" mit DJs Frank Sonique\, Marc Wirtz & Mr Radingo\, Livemusik mit Cross`n easy
LOCATION:Parks\, Berliner Platz 9\, 90409 Nürnberg
STATUS:CONFIRMED
END:VEVENT
END:VCALENDAR