BEGIN:VCALENDAR
VERSION:2.0
PRODID:-//Doppelpunkt//Events//DE
CALSCALE:GREGORIAN
METHOD:PUBLISH
BEGIN:VEVENT
UID:event-3412@www.doppelpunkt.de
DTSTAMP:20260425T142212
DTSTART:20260117T200000
DTEND:20260117T200000
SUMMARY:"Die Filmbüchse der Pandora": Supervixens – Eruption
LOCATION:Kommkino\, Königstr. 93\, 90403 Nürnberg
STATUS:CONFIRMED
END:VEVENT
END:VCALENDAR