BEGIN:VCALENDAR
VERSION:2.0
PRODID:-//Doppelpunkt//Events//DE
CALSCALE:GREGORIAN
METHOD:PUBLISH
BEGIN:VEVENT
UID:event-3411@www.doppelpunkt.de
DTSTAMP:20260425T142043
DTSTART:20260117T151500
DTEND:20260117T151500
SUMMARY:"Die Filmbüchse der Pandora": Robot Monster
LOCATION:Kommkino\, Königstr. 93\, 90403 Nürnberg
STATUS:CONFIRMED
END:VEVENT
END:VCALENDAR