BEGIN:VCALENDAR
VERSION:2.0
PRODID:-//Doppelpunkt//Events//DE
CALSCALE:GREGORIAN
METHOD:PUBLISH
BEGIN:VEVENT
UID:event-3410@www.doppelpunkt.de
DTSTAMP:20260425T141744
DTSTART:20260117T130000
DTEND:20260117T130000
SUMMARY:"Die Filmbüchse der Pandora": Frankenstein und die Ungeheuer aus dem Meer
LOCATION:Kommkino\, Königstr. 93\, 90403 Nürnberg
STATUS:CONFIRMED
END:VEVENT
END:VCALENDAR