BEGIN:VCALENDAR
VERSION:2.0
PRODID:-//Doppelpunkt//Events//DE
CALSCALE:GREGORIAN
METHOD:PUBLISH
BEGIN:VEVENT
UID:event-3407@www.doppelpunkt.de
DTSTAMP:20260419T165342
DTSTART:20260116T200000
DTEND:20260116T200000
SUMMARY:"Die Filmbüchse der Pandora": Rocky IV - Der Kampf des Jahrhunderts
LOCATION:Kommkino\, Königstr. 93\, 90403 Nürnberg
STATUS:CONFIRMED
END:VEVENT
END:VCALENDAR