BEGIN:VCALENDAR
VERSION:2.0
PRODID:-//Doppelpunkt//Events//DE
CALSCALE:GREGORIAN
METHOD:PUBLISH
BEGIN:VEVENT
UID:event-3405@www.doppelpunkt.de
DTSTAMP:20260425T144524
DTSTART:20260113T211500
DTEND:20260113T211500
SUMMARY:Tuesday Trash Night: Deathstalker – Der Todesjäger
LOCATION:Kommkino\, Königstr. 93\, 90403 Nürnberg
STATUS:CONFIRMED
END:VEVENT
END:VCALENDAR