BEGIN:VCALENDAR
VERSION:2.0
PRODID:-//Doppelpunkt//Events//DE
CALSCALE:GREGORIAN
METHOD:PUBLISH
BEGIN:VEVENT
UID:event-3404@www.doppelpunkt.de
DTSTAMP:20260425T135446
DTSTART:20260128T211500
DTEND:20260129T235900
SUMMARY:Ken Russel-Werkschau: Die Hure
LOCATION:Kommkino\, Königstr. 93\, 90403 Nürnberg
STATUS:CONFIRMED
END:VEVENT
END:VCALENDAR