BEGIN:VCALENDAR
VERSION:2.0
PRODID:-//Doppelpunkt//Events//DE
CALSCALE:GREGORIAN
METHOD:PUBLISH
BEGIN:VEVENT
UID:event-3403@www.doppelpunkt.de
DTSTAMP:20260425T135316
DTSTART:20260123T211500
DTEND:20260124T235900
SUMMARY:Ken Russel-Werkschau: Tommy (OmU)
LOCATION:Kommkino\, Königstr. 93\, 90403 Nürnberg
STATUS:CONFIRMED
END:VEVENT
END:VCALENDAR