BEGIN:VCALENDAR
VERSION:2.0
PRODID:-//Doppelpunkt//Events//DE
CALSCALE:GREGORIAN
METHOD:PUBLISH
BEGIN:VEVENT
UID:event-3402@www.doppelpunkt.de
DTSTAMP:20260425T140304
DTSTART:20260120T211500
DTEND:20260121T235900
SUMMARY:Ken Russel-Werkschau: Gothic
LOCATION:Kommkino\, Königstr. 93\, 90403 Nürnberg
STATUS:CONFIRMED
END:VEVENT
END:VCALENDAR