BEGIN:VCALENDAR
VERSION:2.0
PRODID:-//Doppelpunkt//Events//DE
CALSCALE:GREGORIAN
METHOD:PUBLISH
BEGIN:VEVENT
UID:event-3399@www.doppelpunkt.de
DTSTAMP:20260421T104617
DTSTART:20260109T210500
DTEND:20260110T235900
SUMMARY:Ken Russel-Werkschau: Die Teufel
LOCATION:Kommkino\, Königstr. 93\, 90403 Nürnberg
STATUS:CONFIRMED
END:VEVENT
END:VCALENDAR