BEGIN:VCALENDAR
VERSION:2.0
PRODID:-//Doppelpunkt//Events//DE
CALSCALE:GREGORIAN
METHOD:PUBLISH
BEGIN:VEVENT
UID:event-3396@www.doppelpunkt.de
DTSTAMP:20260425T135317
DTSTART:20260118T180000
DTEND:20260118T180000
SUMMARY:Manuel Feilinger (Rock)
LOCATION:Weißes Ross\, Hauptstr. 25\, 91586 Immeldorf
STATUS:CONFIRMED
END:VEVENT
END:VCALENDAR