BEGIN:VCALENDAR
VERSION:2.0
PRODID:-//Doppelpunkt//Events//DE
CALSCALE:GREGORIAN
METHOD:PUBLISH
BEGIN:VEVENT
UID:event-3395@www.doppelpunkt.de
DTSTAMP:20260425T141849
DTSTART:20260117T203000
DTEND:20260117T203000
SUMMARY:Point und die Spielverderber
LOCATION:Weißes Ross\, Hauptstr. 25\, 91586 Immeldorf
STATUS:CONFIRMED
END:VEVENT
END:VCALENDAR