BEGIN:VCALENDAR
VERSION:2.0
PRODID:-//Doppelpunkt//Events//DE
CALSCALE:GREGORIAN
METHOD:PUBLISH
BEGIN:VEVENT
UID:event-3394@www.doppelpunkt.de
DTSTAMP:20260425T141913
DTSTART:20260118T183000
DTEND:20260118T183000
SUMMARY:Tetyana Hoch & Maryna Dorf: "Vier Hände. Ein Atem. Ein Traum"\, Klavierkonzert
LOCATION:C. Bechstein Centrum\, Lorenzer Platz 29\, 90402 Nürnberg
STATUS:CONFIRMED
END:VEVENT
END:VCALENDAR