BEGIN:VCALENDAR
VERSION:2.0
PRODID:-//Doppelpunkt//Events//DE
CALSCALE:GREGORIAN
METHOD:PUBLISH
BEGIN:VEVENT
UID:event-3393@www.doppelpunkt.de
DTSTAMP:20260425T141832
DTSTART:20260124T210000
DTEND:20260124T210000
SUMMARY:"Metal-Alternative-Glam Rock- Night" auf 2 Areas
LOCATION:Golden Nugget Club & Bar\, Klingenhofstr. 50c\, 90411 Nürnberg
STATUS:CONFIRMED
END:VEVENT
END:VCALENDAR