BEGIN:VCALENDAR
VERSION:2.0
PRODID:-//Doppelpunkt//Events//DE
CALSCALE:GREGORIAN
METHOD:PUBLISH
BEGIN:VEVENT
UID:event-3392@www.doppelpunkt.de
DTSTAMP:20260425T140341
DTSTART:20260124T210000
DTEND:20260124T210000
SUMMARY:"Schwarzer Hirsch"\, Wave/Gothic
LOCATION:Hirsch\, Vogelweiher Str. 66\, 90441 Nürnberg
STATUS:CONFIRMED
END:VEVENT
END:VCALENDAR