BEGIN:VCALENDAR
VERSION:2.0
PRODID:-//Doppelpunkt//Events//DE
CALSCALE:GREGORIAN
METHOD:PUBLISH
BEGIN:VEVENT
UID:event-3391@www.doppelpunkt.de
DTSTAMP:20260425T142212
DTSTART:20260117T210000
DTEND:20260117T210000
SUMMARY:"Disco Night"\, 70er/80er Disco/Pop/Wave/Rock
LOCATION:Hirsch\, Vogelweiher Str. 66\, 90441 Nürnberg
STATUS:CONFIRMED
END:VEVENT
END:VCALENDAR