BEGIN:VCALENDAR
VERSION:2.0
PRODID:-//Doppelpunkt//Events//DE
CALSCALE:GREGORIAN
METHOD:PUBLISH
BEGIN:VEVENT
UID:event-3389@www.doppelpunkt.de
DTSTAMP:20260421T111546
DTSTART:20251219T230000
DTEND:20251219T230000
SUMMARY:"Krachen"\, Indie/Rock/Punk
LOCATION:MUZclub\, Fürther Str. 63\, 90429 Nürnberg
STATUS:CONFIRMED
END:VEVENT
END:VCALENDAR