BEGIN:VCALENDAR
VERSION:2.0
PRODID:-//Doppelpunkt//Events//DE
CALSCALE:GREGORIAN
METHOD:PUBLISH
BEGIN:VEVENT
UID:event-3380@www.doppelpunkt.de
DTSTAMP:20260421T111546
DTSTART:20251217T193000
DTEND:20251217T193000
SUMMARY:Windsbacher Knabenchor: "Weihnachtsoratorium" von J.S.Bach
LOCATION:St. Gumbertus Kirche\, Johann-Sebastian-Bach-Platz 3\, 91522 Ansbach
STATUS:CONFIRMED
END:VEVENT
END:VCALENDAR