BEGIN:VCALENDAR
VERSION:2.0
PRODID:-//Doppelpunkt//Events//DE
CALSCALE:GREGORIAN
METHOD:PUBLISH
BEGIN:VEVENT
UID:event-3379@www.doppelpunkt.de
DTSTAMP:20260421T111540
DTSTART:20251217T180000
DTEND:20251217T180000
SUMMARY:Oliver Schott feat. The Golden Gospel Choir
LOCATION:Martin-Luther-Platz\,  Ansbach
STATUS:CONFIRMED
END:VEVENT
END:VCALENDAR