BEGIN:VCALENDAR
VERSION:2.0
PRODID:-//Doppelpunkt//Events//DE
CALSCALE:GREGORIAN
METHOD:PUBLISH
BEGIN:VEVENT
UID:event-3378@www.doppelpunkt.de
DTSTAMP:20260421T111600
DTSTART:20251226T210000
DTEND:20251226T210000
SUMMARY:"X-Mas Metal Night" auf 2 Areas
LOCATION:Golden Nugget Club & Bar\, Klingenhofstr. 50c\, 90411 Nürnberg
STATUS:CONFIRMED
END:VEVENT
END:VCALENDAR